BEGIN:VCALENDAR
VERSION:2.0
CALSCALE:GREGORIAN
PRODID:adamgibbons/ics
METHOD:PUBLISH
X-PUBLISHED-TTL:PT1H
BEGIN:VEVENT
UID:2@agenda.henares.org
SUMMARY:Bicicrítica Alcalá de Henares
DTSTAMP:20260422T172312Z
DTSTART:20260517T100000Z
DTEND:20260517T113000Z
DESCRIPTION:Encuentro mensual para disfrutar y reivindicar la bicicleta. 3º
	 domingos de cada\nmes a las 12:00 en Puerta de Madrid (Alcalá de Henares)
	\n\nLa Bicicrítica es un movimiento ciudadano que promueve el uso de la bi
	cicleta\ncomo medio de transporte sostenible\, saludable y eficiente. En A
	lcalá de\nHenares\, esta bicicletada mensual reúne a gente diversa para re
	correr las calles\nde la ciudad en un ambiente festivo y reivindicativo. N
	o la convoca ninguna\norganización\, solo un grupo de personas comprometid
	as con la bicicleta.\n\n\nMÁS INFORMACIÓN: HTTPS://BICICRITICA.ALCALAH.ORG
	/\n[https://bicicritica.alcalah.org/]
URL:https://agenda.henares.org/event/bicicritica-alcala-de-henares-1
LOCATION:Puerta de Madrid\, Alcalá de Henares - Puerta de Madrid\, Alcalá d
	e Henares
STATUS:CONFIRMED
CATEGORIES:bici,bicicrítica,movilidad activa,movilidad sostenible
X-ALT-DESC;FMTTYPE=text/html:<p>Encuentro mensual para disfrutar y reivindi
	car la bicicleta. <strong>3º domingos de cada mes a las 12:00 en Puerta de
	 Madrid</strong> (Alcalá de Henares)</p><p>La Bicicrítica es un movimiento
	 ciudadano que promueve el uso de la bicicleta como medio de transporte so
	stenible, saludable y eficiente. En Alcalá de Henares, esta bicicletada me
	nsual reúne a gente diversa para recorrer las calles de la ciudad en un am
	biente festivo y reivindicativo. No la convoca ninguna organización, solo 
	un grupo de personas comprometidas con la bicicleta.</p><h3>Más informació
	n: <a target="_blank" href="https://bicicritica.alcalah.org/">https://bici
	critica.alcalah.org/</a></h3>
BEGIN:VALARM
ACTION:DISPLAY
DESCRIPTION:Bicicrítica Alcalá de Henares
TRIGGER:-PT1H
END:VALARM
END:VEVENT
END:VCALENDAR
