BEGIN:VCALENDAR
VERSION:2.0
CALSCALE:GREGORIAN
PRODID:adamgibbons/ics
METHOD:PUBLISH
X-PUBLISHED-TTL:PT1H
BEGIN:VEVENT
UID:10@agenda.henares.org
SUMMARY:"Disonancia": Documental y mesa redonda
DTSTAMP:20260424T170850Z
DTSTART:20260424T163000Z
DESCRIPTION:Os hacemos llegar la invitación para la proyección de Disonanci
	a\, un documental\nque da voz a la valentía silenciosa.\n\nMujeres saharau
	is que\, con coraje y dignidad\, arriesgan su vida para quitar\nminas y pr
	oteger a su pueblo. 💔➡️💪\n\nTras la proyección\, contaremos con una mesa re
	donda junto a la directora del\ndocumental: \, @raquellarrosa \, directora
	 del documental \; @jalilfp \, delegado\ndel Frente Polisario en la Comuni
	dad de Madrid y Eugenio Garcia\, periodista y\nactivista de la causa sahar
	aui.\n\nUna historia que merece ser escuchada 👂\n\n📍 Alcalá de Henares\, A
	ntiguo Hospitalillo Santa María La Rica.\n\n🗓️ Viernes 24 | 18:30\n\nContam
	os contigo\, no puedes faltar !\n\n#MujerSaharaui #Disonancia #MemoriaYRes
	istencia\n\n
URL:https://agenda.henares.org/event/disonancia-documental-y-mesa-redonda
GEO:40.4801757;-3.3676635
LOCATION:Sta. María La Rica - C/ Santa María La Rica - Alcalá de Henares
STATUS:CONFIRMED
CATEGORIES:Amigos del pueblo saharaui,Documental,Pueblo saharaui
X-ALT-DESC;FMTTYPE=text/html:<p>Os hacemos llegar la invitación para la pro
	yección de Disonancia, un documental que da voz a la valentía silenciosa.<
	/p><p>Mujeres saharauis que, con coraje y dignidad, arriesgan su vida para
	 quitar minas y proteger a su pueblo. 💔➡️💪</p><p>Tras la proyección, contar
	emos con una mesa redonda junto a la directora del documental: , @raquella
	rrosa , directora del documental ; @jalilfp , delegado del Frente Polisari
	o en la Comunidad de Madrid y Eugenio Garcia, periodista y activista de la
	 causa saharaui.</p><p>Una historia que merece ser escuchada 👂</p><p>📍 Alc
	alá de Henares, Antiguo Hospitalillo Santa María La Rica.</p><p>🗓️ Viernes 
	24 | 18:30</p><p>Contamos contigo, no puedes faltar !</p><p>#MujerSaharaui
	 #Disonancia #MemoriaYResistencia</p><p></p>
BEGIN:VALARM
ACTION:DISPLAY
DESCRIPTION:"Disonancia": Documental y mesa redonda
TRIGGER:-PT1H
END:VALARM
END:VEVENT
END:VCALENDAR
