BEGIN:VCALENDAR
VERSION:2.0
CALSCALE:GREGORIAN
PRODID:adamgibbons/ics
METHOD:PUBLISH
X-PUBLISHED-TTL:PT1H
BEGIN:VEVENT
UID:5@agenda.henares.org
SUMMARY:Otro modelo económico es posible
DTSTAMP:20260423T002417Z
DTSTART:20260424T170000Z
DESCRIPTION:Dialogaremos sobre la economía social y solidaria en formato co
	loquio. Para ello\ncontaremos con Brezo Díaz-Rubín y Luis Esteban Rubio de
	 la cooperativa\n@ecooo_life.\n\nLa economía social y solidaria es una alt
	ernativa al modelo capitalista\ntradicional\, centrada en las personas y n
	o en el capital: la sostenibilidad\, la\njusticia social y la cooperación 
	son principios clave. La actividad económica se\norienta al bien común y a
	l respeto del medio ambiente. Y esto se debe a que son\nlas personas en co
	lectivo las que toman las decisiones finales\, ya sea como\ncooperativista
	s o como consumidores.\n\nAdemás\, hablaremos del sector en el que está es
	pecializada la cooperativa Ecooo:\nenergías renovables hablando de producc
	ión renovable\, autoconsumo y lucha contra\nel cambio climático. Y nos pre
	sentarán el proyecto de "El Guardabosques" en\nGalicia.\n\n📅 Viernes 24 de
	 abril\n\n🕒19:00\n\n🔗 Más info en\nhttps://asociacionaguademayo.org/otro-m
	odelo-economico-es-posible/\n[https://asociacionaguademayo.org/otro-modelo
	-economico-es-posible/]
URL:https://agenda.henares.org/event/otro-modelo-economico-es-posible
GEO:40.4828329;-3.352938
LOCATION:Agua de Mayo - Avda. Virgen del Val\, 7
STATUS:CONFIRMED
CATEGORIES:Ateneo AdM,Charla,Economía social y solidaria,Podcast
X-ALT-DESC;FMTTYPE=text/html:<p>Dialogaremos sobre la economía social y sol
	idaria en formato coloquio. Para ello contaremos con Brezo Díaz-Rubín y Lu
	is Esteban Rubio de la cooperativa @ecooo_life. </p><p>La economía social 
	y solidaria es una alternativa al modelo capitalista tradicional, centrada
	 en las personas y no en el capital: la sostenibilidad, la justicia social
	 y la cooperación son principios clave. La actividad económica se orienta 
	al bien común y al respeto del medio ambiente. Y esto se debe a que son la
	s personas en colectivo las que toman las decisiones finales, ya sea como 
	cooperativistas o como consumidores.</p><p>Además, hablaremos del sector e
	n el que está especializada la cooperativa Ecooo: energías renovables habl
	ando de producción renovable, autoconsumo y lucha contra el cambio climáti
	co. Y nos presentarán el proyecto de "El Guardabosques" en Galicia.</p><p>
	📅 Viernes 24 de abril</p><p>🕒19:00</p><p>🔗 Más info en <a href="https://as
	ociacionaguademayo.org/otro-modelo-economico-es-posible/" target="_blank">
	https://asociacionaguademayo.org/otro-modelo-economico-es-posible/</a></p>
BEGIN:VALARM
ACTION:DISPLAY
DESCRIPTION:Otro modelo económico es posible
TRIGGER:-PT1H
END:VALARM
END:VEVENT
END:VCALENDAR
