BEGIN:VCALENDAR
VERSION:2.0
CALSCALE:GREGORIAN
PRODID:adamgibbons/ics
METHOD:PUBLISH
X-PUBLISHED-TTL:PT1H
BEGIN:VEVENT
UID:6@agenda.henares.org
SUMMARY:Vermut poético
DTSTAMP:20260423T001505Z
DTSTART:20260426T100000Z
DESCRIPTION:PRÓXIMO VERMUTTTT 🧃🍇\n🗓️domingo 26 de abril\n🕛12 hrs\n📍La Pícara
	 de Alcalá (Calle del Bedel\, 5)\n\nDespués de @equinocciopoesia [https://
	www.instagram.com/equinocciopoesia/] nos\nquedamos con ganas de más\, así 
	que volvemos a nuestra tienda gourmet de\n@lapicaradealcala [https://www.i
	nstagram.com/lapicaradealcala/] para declamar un\npoquito mientras endulza
	mos nuestro paladar con un buen vermut 🍸\n\nOs refrescamos la dinámica: ha
	brá un micro abierto donde podréis leer poemas en\nvoz alta que estén ajus
	tados a la temática propuesta. Como ha llegado la\nprimavera y ha alterado
	 nuestras pulsaciones\, hemos elegido el tema de *los\nsentidos* con la id
	ea de que busquéis poemas muy sensoriales que se puedan oler\,\npercibir\,
	 saborear o acariciar 🙈🙉🙊\n\n🎙️Recordaros que queremos que sea un lugar de 
	escucha de diferentes voces\,\nestáis invitads tanto a leer propuestas pro
	pias como a disfrutar de que lo hagan\nlos demás. Nosotrs traeremos alguna
	s obras por si necesitáis de más\ninspiración..!\n\nel almbr 🔗
URL:https://agenda.henares.org/event/vermut-poetico
GEO:40.4835261;-3.3633739
LOCATION:La Pícara - C/ Bedel\, 5 - Alcalá de Henares
STATUS:CONFIRMED
CATEGORIES:El alambre,Poesía,Vermut poético
X-ALT-DESC;FMTTYPE=text/html:<p>PRÓXIMO VERMUTTTT 🧃🍇<br>🗓️domingo 26 de abri
	l<br>🕛12 hrs<br>📍La Pícara de Alcalá (Calle del Bedel, 5)<br><br>Después d
	e <a target="_blank" href="https://www.instagram.com/equinocciopoesia/">@e
	quinocciopoesia</a> nos quedamos con ganas de más, así que volvemos a nues
	tra tienda gourmet de <a target="_blank" href="https://www.instagram.com/l
	apicaradealcala/">@lapicaradealcala</a> para declamar un poquito mientras 
	endulzamos nuestro paladar con un buen vermut 🍸<br><br>Os refrescamos la d
	inámica: habrá un micro abierto donde podréis leer poemas en voz alta que 
	estén ajustados a la temática propuesta. Como ha llegado la primavera y ha
	 alterado nuestras pulsaciones, hemos elegido el tema de *los sentidos* co
	n la idea de que busquéis poemas muy sensoriales que se puedan oler, perci
	bir, saborear o acariciar 🙈🙉🙊<br><br>🎙️Recordaros que queremos que sea un l
	ugar de escucha de diferentes voces, estáis invitads tanto a leer propuest
	as propias como a disfrutar de que lo hagan los demás. Nosotrs traeremos a
	lgunas obras por si necesitáis de más inspiración..!<br><br>el almbr 🔗</p>
BEGIN:VALARM
ACTION:DISPLAY
DESCRIPTION:Vermut poético
TRIGGER:-PT1H
END:VALARM
END:VEVENT
END:VCALENDAR
