BEGIN:VCALENDAR
CALSCALE:GREGORIAN
VERSION:2.0
PRODID:-//Elixir ICalendar//Elixir ICalendar//EN
BEGIN:VEVENT
ATTACH;FMTTYPE=image/jpeg:https://agenda.henares.org/media/8d4861d915e5f0c8240f5b9d4afb770be8156f20ecb0bf0f8db4ff3c4a779d37.jpg?name=ateneo3.jpg
CATEGORIES:Economía social,Ateneo Agua de Mayo,Ecooo
DESCRIPTION:Dialogaremos sobre la economía social y solidaria en formato coloquio. Para ello contaremos con Brezo Díaz-Rubín y Luis Esteban Rubio de la cooperativa @ecooo_life. \n\nLa economía social y solidaria es una alternativa al modelo capitalista tradicional\, centrada en las personas y no en el capital: la sostenibilidad\, la justicia social y la cooperación son principios clave. La actividad económica se orienta al bien común y al respeto del medio ambiente. Y esto se debe a que son las personas en colectivo las que toman las decisiones finales\, ya sea como cooperativistas o como consumidores.\n\nAdemás\, hablaremos del sector en el que está especializada la cooperativa Ecooo: energías renovables hablando de producción renovable\, autoconsumo y lucha contra el cambio climático. Y nos presentarán el proyecto de "El Guardabosques" en Galicia.\n\n📅 Viernes 24 de abril\n\n🕒19:00\n\n
DTEND;TZID=Europe/Madrid:20260424T200000
DTSTAMP:20260421T133426Z
DTSTART;TZID=Europe/Madrid:20260424T190000
GEO:40.4828329;-3.352938
LOCATION:Asociación Agua de Mayo 7 Avenida Virgen del Val 28804 Alcalá de Henares Comunidad de Madrid España
ORGANIZER:Agua de Mayo
STATUS:CONFIRMED
SUMMARY:Otro modelo económico es posible
UID:f7098284-4552-4b77-9b11-e9a85bd8baa5
URL:https://agenda.henares.org/events/f7098284-4552-4b77-9b11-e9a85bd8baa5
END:VEVENT
BEGIN:VEVENT
ATTACH;FMTTYPE=image/jpeg:https://agenda.henares.org/media/5d8015a9eb990fde001f3228db96d0be57d5571582b2dff0536cb112513e6796.jpg?name=BICICR%C3%8DTICA%20ALCAL%C3%81%20DE%20HENARES%20-%20Cartel%284%29.jpg
CATEGORIES:bici,bicicrítica,masa crítica,alcalá de henares
DESCRIPTION:Id preparando esas bicis que el próximo domingo volvemos a salir a las calles!Hará muy buen tiempo y seguramente ya volveremos a tener agua en la ciudad \n\nY atención porque volverá a haber taller de banderines\n\nParece que gustó bastante la idea del mes pasado así que esta vez convocamos el mismo domingo antes de la marcha para preparar más banderas y colocarlas en las bicis a tiempo para salir a pedalear.El taller de banderines será el domingo 19 de abril a las 10h en el parque de Santa Ana (a 50 metros de la Puerta de Madrid). Justo aquí: https://maps.app.goo.gl/PfQJVLkMX3dt2z4j8Y justo después a la hora de siempre\, las 12h quedamos para salir desde Puerta de Madrid\n\n¡Buena semana y hasta el domingo!\n\n
DTEND;TZID=Europe/Madrid:20260419T133000
DTSTAMP:20260421T133426Z
DTSTART;TZID=Europe/Madrid:20260419T120000
GEO:40.4814994;-3.3640163
LOCATION:Plaza de Rodríguez Marín  28801 Alcalá de Henares Comunidad de Madrid España
ORGANIZER:Bicicrítica Alcala de Henares
STATUS:CONFIRMED
SUMMARY:Bicicrítica 19 de abril
UID:43a05bd4-c3b3-4851-8d4a-9461169b9d6c
URL:https://agenda.henares.org/events/43a05bd4-c3b3-4851-8d4a-9461169b9d6c
END:VEVENT
BEGIN:VEVENT
ATTACH;FMTTYPE=image/jpeg:https://agenda.henares.org/media/d13dee6707e6fc3d7df4c54343c4322b337c1013a6d6f2445cbca97d422b93ae.jpg?name=Cartel%20proyecci%C3%B3n%20enero%20-%20A4.jpg
DESCRIPTION:🌍 Te invitamos a la proyección de vídeos cortos de @hope_videosparaelcambio: las mejores soluciones para regenerar el planeta 🌍\n\n⚡ A la mayoría de las personas nos importa lo que pasa en el planeta\, pero nos abruman tanto los mensajes derrotistas que\, sin darnos cuenta\, desconectamos y seguimos con nuestras vidas sintiendo que no podemos hacer nada. ¿A ti también te pasa?\n\n🛠 Pues tenemos una buena noticia. 𝗘𝗦𝗔 𝗘𝗦 𝗦𝗢𝗟𝗢 𝗨𝗡𝗔 𝗣𝗔𝗥𝗧𝗘 𝗗𝗘 𝗟𝗔 𝗛𝗜𝗦𝗧𝗢𝗥𝗜𝗔. En el mundo\, hay miles de científicos y profesionales creando soluciones tan sorprendentes como reales hacia la regeneración y la vida.\n\n🌱 De esto trata la serie 𝗛𝗢𝗣𝗘! 𝗘𝗦𝗧𝗔𝗠𝗢𝗦 𝗔 𝗧𝗜𝗘𝗠𝗣𝗢\, la más vista en RTVE\, que ha generado un movimiento internacional de esperanza e ilusión por mejorar nuestro entorno: La Oleada por la Regeneración.\n\n🏫 Alcalá se ha sumado al movimiento y nos encantaría que vengas a ver estos vídeos cortos\, positivos y motivadores. - Si quieres conocer las soluciones que están dando esperanza a tantas personas - si quieres hablar sobre qué podemos hacer en nuestra ciudad - si quieres saber cómo colaborar - si perteneces a alguna organización de Alcalá - o si simplemente quieres venir a la proyección\, te esperamos en:\n\n📅 Asociación Vecinal El Val\, el jueves 22 de enero a las 18:00h\n\n🧭 Avenida de Castilla\, 2. \n\n🎟 Entrada libre hasta completar aforo. Apto para todas las edades. \n\n👥 Organiza: Alcalá de Henares por la Regeneración y Asociación Vecinal El Val \n\n
DTEND;TZID=Europe/Madrid:20260122T200000
DTSTAMP:20260421T133426Z
DTSTART;TZID=Europe/Madrid:20260122T180000
GEO:40.4845976;-3.3493524
LOCATION:Asociación de Vecinos El Val 2 Avenida de Castilla 28804 Alcalá de Henares Comunidad de Madrid España
ORGANIZER:Alcalá por la Regeneración
STATUS:CONFIRMED
SUMMARY:Proyección de Hope! en la AA.VV. El Val
UID:f89fc525-ddb6-42e2-ad27-c0b1374bf92a
URL:https://agenda.henares.org/events/f89fc525-ddb6-42e2-ad27-c0b1374bf92a
END:VEVENT
END:VCALENDAR
